BEGIN:VCALENDAR
VERSION:2.0
PRODID:-//SaarBlech - ECPv6.15.20//NONSGML v1.0//EN
CALSCALE:GREGORIAN
METHOD:PUBLISH
X-ORIGINAL-URL:https://www.saar-blech.de
X-WR-CALDESC:Veranstaltungen für SaarBlech
REFRESH-INTERVAL;VALUE=DURATION:PT1H
X-Robots-Tag:noindex
X-PUBLISHED-TTL:PT1H
BEGIN:VTIMEZONE
TZID:Europe/Berlin
BEGIN:DAYLIGHT
TZOFFSETFROM:+0100
TZOFFSETTO:+0200
TZNAME:CEST
DTSTART:20220327T010000
END:DAYLIGHT
BEGIN:STANDARD
TZOFFSETFROM:+0200
TZOFFSETTO:+0100
TZNAME:CET
DTSTART:20221030T010000
END:STANDARD
BEGIN:DAYLIGHT
TZOFFSETFROM:+0100
TZOFFSETTO:+0200
TZNAME:CEST
DTSTART:20230326T010000
END:DAYLIGHT
BEGIN:STANDARD
TZOFFSETFROM:+0200
TZOFFSETTO:+0100
TZNAME:CET
DTSTART:20231029T010000
END:STANDARD
BEGIN:DAYLIGHT
TZOFFSETFROM:+0100
TZOFFSETTO:+0200
TZNAME:CEST
DTSTART:20240331T010000
END:DAYLIGHT
BEGIN:STANDARD
TZOFFSETFROM:+0200
TZOFFSETTO:+0100
TZNAME:CET
DTSTART:20241027T010000
END:STANDARD
BEGIN:DAYLIGHT
TZOFFSETFROM:+0100
TZOFFSETTO:+0200
TZNAME:CEST
DTSTART:20250330T010000
END:DAYLIGHT
BEGIN:STANDARD
TZOFFSETFROM:+0200
TZOFFSETTO:+0100
TZNAME:CET
DTSTART:20251026T010000
END:STANDARD
BEGIN:DAYLIGHT
TZOFFSETFROM:+0100
TZOFFSETTO:+0200
TZNAME:CEST
DTSTART:20260329T010000
END:DAYLIGHT
BEGIN:STANDARD
TZOFFSETFROM:+0200
TZOFFSETTO:+0100
TZNAME:CET
DTSTART:20261025T010000
END:STANDARD
BEGIN:DAYLIGHT
TZOFFSETFROM:+0100
TZOFFSETTO:+0200
TZNAME:CEST
DTSTART:20270328T010000
END:DAYLIGHT
BEGIN:STANDARD
TZOFFSETFROM:+0200
TZOFFSETTO:+0100
TZNAME:CET
DTSTART:20271031T010000
END:STANDARD
END:VTIMEZONE
BEGIN:VEVENT
DTSTART;TZID=Europe/Berlin:20260401T183000
DTEND;TZID=Europe/Berlin:20260401T213000
DTSTAMP:20260424T133948
CREATED:20241229T193039Z
LAST-MODIFIED:20260224T210530Z
UID:738-1775068200-1775079000@www.saar-blech.de
SUMMARY:Musikanten Stammtisch
DESCRIPTION:
URL:https://www.saar-blech.de/termin/musikanten-stammtisch/
LOCATION:Schaumberg Alm\, Zum Schaumbergturm 3\, Tholey\, Saarland\, 66636
ORGANIZER;CN="Schaumberg Alm":MAILTO:kontakt@schaumberg-alm.de
END:VEVENT
BEGIN:VEVENT
DTSTART;TZID=Europe/Berlin:20260110T183000
DTEND;TZID=Europe/Berlin:20260110T235959
DTSTAMP:20260424T133948
CREATED:20250731T195234Z
LAST-MODIFIED:20251228T100154Z
UID:770-1768069800-1768089599@www.saar-blech.de
SUMMARY:Benefizkonzert mit Heilix Blechle
DESCRIPTION:Eintritt frei! Um Spenden zu Gunsten des Vereins Herzensengel e.V. wird gebeten.
URL:https://www.saar-blech.de/termin/benefizkonzert-mit-heilix-blechle/
END:VEVENT
BEGIN:VEVENT
DTSTART;TZID=Europe/Berlin:20250914T110000
DTEND;TZID=Europe/Berlin:20250914T130000
DTSTAMP:20260424T133948
CREATED:20221211T201741Z
LAST-MODIFIED:20241229T193646Z
UID:430-1757847600-1757854800@www.saar-blech.de
SUMMARY:Beuriger Quetschenkirmes
DESCRIPTION:
URL:https://www.saar-blech.de/termin/quetschenkirmes/
LOCATION:Marienplatz\, Klosterstraße 50\, Saarburg\, Rheinland-Pfalz\, 54439\, Deutschland
ORGANIZER;CN="Festgemeinschaft Beuriger Kirmes":MAILTO:laurenzbernd@t-online.de
END:VEVENT
BEGIN:VEVENT
DTSTART;TZID=Europe/Berlin:20240921T180000
DTEND;TZID=Europe/Berlin:20240921T213000
DTSTAMP:20260424T133948
CREATED:20240423T182401Z
LAST-MODIFIED:20240423T182408Z
UID:725-1726941600-1726954200@www.saar-blech.de
SUMMARY:Fest der Feuerwehr
DESCRIPTION:
URL:https://www.saar-blech.de/termin/fest-der-feuerwehr/
LOCATION:Feuerwehr Elm\, Grubenstr. 1a\, Schwalbach\, Saarland\, 66773
ORGANIZER;CN="Freiwillige Feuerwehr Elm":MAILTO:wache2@schwalbach-saar.de
END:VEVENT
BEGIN:VEVENT
DTSTART;TZID=Europe/Berlin:20240906T000000
DTEND;TZID=Europe/Berlin:20240906T235959
DTSTAMP:20260424T133948
CREATED:20231219T150902Z
LAST-MODIFIED:20231219T150904Z
UID:716-1725580800-1725667199@www.saar-blech.de
SUMMARY:Musikfest MV Ommersheim
DESCRIPTION:
URL:https://www.saar-blech.de/termin/musikfest-mv-ommersheim/
LOCATION:Festzelt\, Saarbrücker Str. 2\, Mandelbachtal-Ommersheim\, Saarland\, 66399\, Germany
ORGANIZER;CN="Musikverein Ommersheim e.V.":MAILTO:mail@mvommersheim.de
END:VEVENT
BEGIN:VEVENT
DTSTART;TZID=Europe/Berlin:20240824T000000
DTEND;TZID=Europe/Berlin:20240824T235959
DTSTAMP:20260424T133948
CREATED:20230824T140406Z
LAST-MODIFIED:20230824T140422Z
UID:692-1724457600-1724543999@www.saar-blech.de
SUMMARY:100. Jubiläum Musikverein Edelweiss Asweiler-Eitzweiler
DESCRIPTION:
URL:https://www.saar-blech.de/termin/100-jubilaeum-musikverein-edelweiss-asweiler-eitzweiler/
LOCATION:Festzelt
ORGANIZER;CN="Musikverein Edelweiss Asweiler-Eitzweiler e.V.":MAILTO:mv-edelweiss-asweiler@web.de
END:VEVENT
BEGIN:VEVENT
DTSTART;TZID=Europe/Berlin:20240330T150000
DTEND;TZID=Europe/Berlin:20240330T170000
DTSTAMP:20260424T133948
CREATED:20230119T161339Z
LAST-MODIFIED:20230124T130914Z
UID:567-1711810800-1711818000@www.saar-blech.de
SUMMARY:30. Geburtstag
DESCRIPTION:
URL:https://www.saar-blech.de/termin/30-geburtstag/
LOCATION:Private Veranstaltung
END:VEVENT
BEGIN:VEVENT
DTSTART;TZID=Europe/Berlin:20240201T000000
DTEND;TZID=Europe/Berlin:20240201T235959
DTSTAMP:20260424T133948
CREATED:20230119T161231Z
LAST-MODIFIED:20230124T130941Z
UID:565-1706745600-1706831999@www.saar-blech.de
SUMMARY:60. Geburtstag
DESCRIPTION:
URL:https://www.saar-blech.de/termin/60-geburtstag/
LOCATION:Private Veranstaltung
END:VEVENT
BEGIN:VEVENT
DTSTART;TZID=Europe/Berlin:20231014T160000
DTEND;TZID=Europe/Berlin:20231014T170000
DTSTAMP:20260424T133948
CREATED:20230119T135900Z
LAST-MODIFIED:20230119T162452Z
UID:542-1697299200-1697302800@www.saar-blech.de
SUMMARY:Kronjuwelen der Blasmusik
DESCRIPTION:
URL:https://www.saar-blech.de/termin/kronjuwelen-der-blasmusik/
LOCATION:Bruchwaldhallle\, Schulstr. 60\, Freisen\, Saarland\, 66629
ORGANIZER;CN="F%C3%B6rderverein des Musikverein %E2%80%9EEdelwei%C3%9F%E2%80%9C Asweiler-Eitzweiler e.V.":MAILTO:kronjuwelen-der-blasmusik@web.de
END:VEVENT
BEGIN:VEVENT
DTSTART;TZID=Europe/Berlin:20230909T100000
DTEND;TZID=Europe/Berlin:20230909T110000
DTSTAMP:20260424T133948
CREATED:20230824T135646Z
LAST-MODIFIED:20230824T135648Z
UID:686-1694253600-1694257200@www.saar-blech.de
SUMMARY:Eröffnung Musikhaus Bopp und Lang
DESCRIPTION:
URL:https://www.saar-blech.de/termin/eroeffnung-musikhaus-bopp-und-lang/
LOCATION:Musikhaus Bopp und Lang\, Willy-Voit-Straße 1\, St. Ingbert\, 66386
ORGANIZER;CN="Musikhaus Bopp und Lang":MAILTO:info@boppundlang.de
END:VEVENT
BEGIN:VEVENT
DTSTART;TZID=Europe/Berlin:20230812T140000
DTEND;TZID=Europe/Berlin:20230812T230000
DTSTAMP:20260424T133948
CREATED:20230119T135507Z
LAST-MODIFIED:20230124T133833Z
UID:538-1691848800-1691881200@www.saar-blech.de
SUMMARY:Woodstock dahoam
DESCRIPTION:
URL:https://www.saar-blech.de/termin/woodstock-dahoam/
LOCATION:Private Veranstaltung
END:VEVENT
BEGIN:VEVENT
DTSTART;TZID=Europe/Berlin:20230805T160000
DTEND;TZID=Europe/Berlin:20230805T190000
DTSTAMP:20260424T133948
CREATED:20230526T130952Z
LAST-MODIFIED:20230526T130954Z
UID:637-1691251200-1691262000@www.saar-blech.de
SUMMARY:Waschparkfest
DESCRIPTION:
URL:https://www.saar-blech.de/termin/waschparkfest/
LOCATION:Waschpark Weiten\, Gewerbepark Weiten 2\, Mettlach\, Saarland\, 66693
ORGANIZER;CN="Waschpark Weiten":MAILTO:kontakt@waschparkweiten.de
END:VEVENT
BEGIN:VEVENT
DTSTART;TZID=Europe/Berlin:20230611T153000
DTEND;TZID=Europe/Berlin:20230611T173000
DTSTAMP:20260424T133948
CREATED:20230207T145648Z
LAST-MODIFIED:20230321T204000Z
UID:604-1686497400-1686504600@www.saar-blech.de
SUMMARY:Köwericher Weinfrühling
DESCRIPTION:
URL:https://www.saar-blech.de/termin/koewericher-weinfruehling/
LOCATION:Ortsgemeinde Köwerich\, Im Weingarten 9\, Köwerich\, Rheinland-Pfalz\, 54340\, Deutschland
END:VEVENT
BEGIN:VEVENT
DTSTART;TZID=Europe/Berlin:20230528T190000
DTEND;TZID=Europe/Berlin:20230528T210000
DTSTAMP:20260424T133948
CREATED:20221211T200229Z
LAST-MODIFIED:20230416T101538Z
UID:420-1685300400-1685307600@www.saar-blech.de
SUMMARY:PfingstfestiWald
DESCRIPTION:
URL:https://www.saar-blech.de/termin/pfingst-festiwald/
LOCATION:Festplatz mit Naturbühne im Rohrwald\, Am Pappelwald 7\, Rehlingen-Siersburg\, Saarland\, 66780\, Deutschland
ORGANIZER;CN="Musikverein 'Almenrausch' Rehlingen e.V.":MAILTO:vorsitzender@almenrausch.de
END:VEVENT
BEGIN:VEVENT
DTSTART;TZID=Europe/Berlin:20230513T103000
DTEND;TZID=Europe/Berlin:20230513T173000
DTSTAMP:20260424T133948
CREATED:20230119T135249Z
LAST-MODIFIED:20230418T190146Z
UID:536-1683973800-1683999000@www.saar-blech.de
SUMMARY:Jubiläumstour - 5 Jahre Saarblech
DESCRIPTION:
URL:https://www.saar-blech.de/termin/jubilaeumstour-5-jahre-saarblech/
LOCATION:Saarblech\, Heimatorte der Musiker
END:VEVENT
BEGIN:VEVENT
DTSTART;TZID=Europe/Berlin:20230423T113000
DTEND;TZID=Europe/Berlin:20230423T143000
DTSTAMP:20260424T133948
CREATED:20230119T135114Z
LAST-MODIFIED:20230217T143138Z
UID:534-1682249400-1682260200@www.saar-blech.de
SUMMARY:Hoffest
DESCRIPTION:
URL:https://www.saar-blech.de/termin/hoffest/
LOCATION:Hofanlage\, Hauptstr. 43\, Mutlangen\, Baden-Württemberg\, 73557
ORGANIZER;CN="Musikverein Mutlangen e.V.":MAILTO:vorstand@mv-mutlangen.de
END:VEVENT
BEGIN:VEVENT
DTSTART;TZID=Europe/Berlin:20230415T100000
DTEND;TZID=Europe/Berlin:20230415T170000
DTSTAMP:20260424T133948
CREATED:20230119T160810Z
LAST-MODIFIED:20230321T204130Z
UID:560-1681552800-1681578000@www.saar-blech.de
SUMMARY:Workshop mit Michael Maier
DESCRIPTION:
URL:https://www.saar-blech.de/termin/workshop-mit-michael-maier/
LOCATION:Private Veranstaltung
END:VEVENT
BEGIN:VEVENT
DTSTART;TZID=Europe/Berlin:20230211T180000
DTEND;TZID=Europe/Berlin:20230211T193000
DTSTAMP:20260424T133948
CREATED:20230119T160559Z
LAST-MODIFIED:20230124T133634Z
UID:558-1676138400-1676143800@www.saar-blech.de
SUMMARY:40. Geburtstag
DESCRIPTION:
URL:https://www.saar-blech.de/termin/40-geburtstag/
LOCATION:Private Veranstaltung
END:VEVENT
BEGIN:VEVENT
DTSTART;TZID=Europe/Berlin:20230121T190000
DTEND;TZID=Europe/Berlin:20230121T233000
DTSTAMP:20260424T133948
CREATED:20221211T200708Z
LAST-MODIFIED:20230119T164303Z
UID:428-1674327600-1674343800@www.saar-blech.de
SUMMARY:Blechnacht
DESCRIPTION:
URL:https://www.saar-blech.de/termin/blechnacht/
LOCATION:Mettlacher Abtei-Bräu\, Bahnhofstraße 32\, Mettlach\, Saarland\, 66693\, Deutschland
ORGANIZER;CN="Mettlacher Abtei-Br%C3%A4u":MAILTO:info@abtei-brauerei.de
END:VEVENT
END:VCALENDAR